BEGIN:VCALENDAR
VERSION:2.0
PRODID:-//ChamberMaster//Event Calendar 2.0//EN
METHOD:PUBLISH
X-PUBLISHED-TTL:P3D
REFRESH-INTERVAL:P3D
CALSCALE:GREGORIAN
BEGIN:VEVENT
DTSTART:20131203T010000Z
DTEND:20131204T040000Z
X-MICROSOFT-CDO-ALLDAYEVENT:FALSE
SUMMARY:PIE MAKING
DESCRIPTION:Pie Making Class. Learn how to make flaky crust from scratch. Learn how to make tasty cream and fruit pie fillings all from scratch.
X-ALT-DESC;FMTTYPE=text/html:Pie Making Class. Learn how to make flaky crust from scratch. Learn how to make tasty cream and fruit pie fillings all from scratch.
LOCATION:The checkered Apron Bakery and Cafe. 1120 S Hwy 89 Chino Valley AZ
UID:e.1880.987
SEQUENCE:3
DTSTAMP:20260421T204823Z
URL:http://chinovalley.chambermaster.com/events/details/pie-making-12-02-2013-987
END:VEVENT

END:VCALENDAR
